BEGIN:VCALENDAR
VERSION:2.0
PRODID:-//wp-events-plugin.com//7.2.3.1//EN
TZID:America/Denver
X-WR-TIMEZONE:America/Denver
BEGIN:VEVENT
UID:105@staythetrail.org
DTSTART;TZID=America/Denver;VALUE=DATE:20210724
DTEND;TZID=America/Denver;VALUE=DATE:20210725
DTSTAMP:20210723T151828Z
URL:https://staythetrail.org/events/four-mile-area-outreach/
SUMMARY:Four Mile Area Outreach
DESCRIPTION:STT will be visiting the Four Mile Trail System outside of Buen
 a Vista providing free state and area maps\, talking about safety and loca
 l conditions.\nArea information:  https://trails.colorado.gov/routes/94
CATEGORIES:STT Trail Head Event
END:VEVENT
BEGIN:VTIMEZONE
TZID:America/Denver
X-LIC-LOCATION:America/Denver
BEGIN:DAYLIGHT
DTSTART:20210314T030000
TZOFFSETFROM:-0700
TZOFFSETTO:-0600
TZNAME:MDT
END:DAYLIGHT
END:VTIMEZONE
END:VCALENDAR