BEGIN:VCALENDAR
VERSION:2.0
PRODID:-//wp-events-plugin.com//7.2.3.1//EN
TZID:America/Denver
X-WR-TIMEZONE:America/Denver
BEGIN:VEVENT
UID:303@staythetrail.org
DTSTART;TZID=America/Denver:20260422T130000
DTEND;TZID=America/Denver:20260422T183000
DTSTAMP:20260420T141841Z
URL:https://staythetrail.org/events/earth-day-off-road-trail-ride-clean-up
 -with-great-outdoors-adventures/
SUMMARY:Earth Day - Off-Road Trail Ride Clean-Up with Great Outdoors Advent
 ures
DESCRIPTION:Event Website: https://goadventures.org/specialsevents/
CATEGORIES:Multi-use Event
END:VEVENT
BEGIN:VTIMEZONE
TZID:America/Denver
X-LIC-LOCATION:America/Denver
BEGIN:DAYLIGHT
DTSTART:20260308T030000
TZOFFSETFROM:-0700
TZOFFSETTO:-0600
TZNAME:MDT
END:DAYLIGHT
END:VTIMEZONE
END:VCALENDAR