BEGIN:VCALENDAR
VERSION:2.0
PRODID:-//wp-events-plugin.com//7.2.3.1//EN
TZID:America/Denver
X-WR-TIMEZONE:America/Denver
BEGIN:VEVENT
UID:161@staythetrail.org
DTSTART;TZID=America/Denver;VALUE=DATE:20220716
DTEND;TZID=America/Denver;VALUE=DATE:20220717
DTSTAMP:20220602T154844Z
URL:https://staythetrail.org/events/dillon-area-outreach/
SUMMARY:Dillon Area Outreach
DESCRIPTION:Area information and map: https://trails.colorado.gov/roads/tig
 er-13751#activity=ohv_gt_50
CATEGORIES:STT Trail Head Event
END:VEVENT
BEGIN:VTIMEZONE
TZID:America/Denver
X-LIC-LOCATION:America/Denver
BEGIN:DAYLIGHT
DTSTART:20220313T030000
TZOFFSETFROM:-0700
TZOFFSETTO:-0600
TZNAME:MDT
END:DAYLIGHT
END:VTIMEZONE
END:VCALENDAR