BEGIN:VCALENDAR
VERSION:2.0
PRODID:-//wp-events-plugin.com//7.2.3.1//EN
TZID:America/Denver
X-WR-TIMEZONE:America/Denver
BEGIN:VEVENT
UID:77@staythetrail.org
DTSTART;TZID=America/Denver;VALUE=DATE:20210626
DTEND;TZID=America/Denver;VALUE=DATE:20210628
DTSTAMP:20210329T171300Z
URL:https://staythetrail.org/events/dillon-area-4x4-ohv-outreach-tiger-roa
 d-golden-horseshoe-trail-system/
SUMMARY:Dillon Area 4x4/OHV Outreach - Tiger Road/Golden Horseshoe Trail Sy
 stem
DESCRIPTION:Stay The Trail is partnering with the Dillon Ranger District to
  provide information including free maps and responsible trail use. Look f
 or the STT truck/trailer at the Tiger Run Trail Head. \nMore information 
 including maps and location available here: https://trails.colorado.gov/r
 oads/tiger-13751\n&nbsp\;
CATEGORIES:STT Trail Head Event
END:VEVENT
BEGIN:VTIMEZONE
TZID:America/Denver
X-LIC-LOCATION:America/Denver
BEGIN:DAYLIGHT
DTSTART:20210314T030000
TZOFFSETFROM:-0700
TZOFFSETTO:-0600
TZNAME:MDT
END:DAYLIGHT
END:VTIMEZONE
END:VCALENDAR