BEGIN:VCALENDAR
VERSION:2.0
PRODID:-//wp-events-plugin.com//7.2.3.1//EN
TZID:America/Denver
X-WR-TIMEZONE:America/Denver
BEGIN:VEVENT
UID:181@staythetrail.org
DTSTART;TZID=America/Denver;VALUE=DATE:20220924
DTEND;TZID=America/Denver;VALUE=DATE:20220926
DTSTAMP:20220829T182344Z
URL:https://staythetrail.org/events/cohvco-workshop-montrose/
SUMMARY:COHVCO Workshop Montrose
DESCRIPTION:Thanks to funding from the Colorado Parks and Wildlife OHV Gran
 t program\, COHVCO will be holding multiple workshops to educate and benef
 it the State’s off-highway vehicle (OHV) enthusiasts\, land managers\, a
 nd other OHV stakeholders. These trainings will be focused on the vision a
 nd goals for OHV recreation in the future.\n&nbsp\;\nWorkshop Information:
  https://nohvcc.org/event/2022-colorado-off-highway-vehicle-coalition-sep
 tember-24-25-cohvco-annual-training-workshop/ 
CATEGORIES:Workshop
END:VEVENT
BEGIN:VTIMEZONE
TZID:America/Denver
X-LIC-LOCATION:America/Denver
BEGIN:DAYLIGHT
DTSTART:20220313T030000
TZOFFSETFROM:-0700
TZOFFSETTO:-0600
TZNAME:MDT
END:DAYLIGHT
END:VTIMEZONE
END:VCALENDAR