BEGIN:VCALENDAR
VERSION:2.0
PRODID:-//wp-events-plugin.com//7.2.3.1//EN
TZID:America/Denver
X-WR-TIMEZONE:America/Denver
BEGIN:VEVENT
UID:120@staythetrail.org
DTSTART;TZID=America/Denver:20210918T110000
DTEND;TZID=America/Denver:20210918T163000
DTSTAMP:20210901T173905Z
URL:https://staythetrail.org/events/co-sxs-3rd-annual-off-road-expo/
SUMMARY:CO SxS 3rd Annual Off-Road Expo
DESCRIPTION:STT will be providing OHV maps\, information and more. Look for
  the STT Trailer. \nLocation: The Ranch Event Complex\, Loveland CO \nEv
 ent Info: https://www.facebook.com/groups/1189549784403529
CATEGORIES:STT OHV Event
END:VEVENT
BEGIN:VTIMEZONE
TZID:America/Denver
X-LIC-LOCATION:America/Denver
BEGIN:DAYLIGHT
DTSTART:20210314T030000
TZOFFSETFROM:-0700
TZOFFSETTO:-0600
TZNAME:MDT
END:DAYLIGHT
END:VTIMEZONE
END:VCALENDAR