BEGIN:VCALENDAR
VERSION:2.0
PRODID:-//wp-events-plugin.com//7.2.3.1//EN
TZID:America/Denver
X-WR-TIMEZONE:America/Denver
BEGIN:VEVENT
UID:99@staythetrail.org
DTSTART;TZID=America/Denver;VALUE=DATE:20210612
DTEND;TZID=America/Denver;VALUE=DATE:20210613
DTSTAMP:20210611T161130Z
URL:https://staythetrail.org/events/co-springs-christian-four-wheelers-cle
 anup-event/
SUMMARY:CO Springs Christian Four Wheelers - Cleanup Event
DESCRIPTION:On Saturday\, June 12th\, Stay The Trail will be partnering wit
 h the CSC4W and will be doing trash cleanup along Gold Camp Road and the M
 t. Baldy trail system. \nEvent information: https://www.facebook.com/eve
 nts/846505669550724/?ref=newsfeed
ATTACH;FMTTYPE=image/jpeg:https://staythetrail.org/wp-content/uploads/2021
 /06/196289379_3952689911452167_6146887796540389950_n.jpg
CATEGORIES:STT Project
END:VEVENT
BEGIN:VTIMEZONE
TZID:America/Denver
X-LIC-LOCATION:America/Denver
BEGIN:DAYLIGHT
DTSTART:20210314T030000
TZOFFSETFROM:-0700
TZOFFSETTO:-0600
TZNAME:MDT
END:DAYLIGHT
END:VTIMEZONE
END:VCALENDAR