BEGIN:VCALENDAR
VERSION:2.0
PRODID:-//wp-events-plugin.com//7.2.3.1//EN
TZID:America/Denver
X-WR-TIMEZONE:America/Denver
BEGIN:VEVENT
UID:112@staythetrail.org
DTSTART;TZID=America/Denver;VALUE=DATE:20210822
DTEND;TZID=America/Denver;VALUE=DATE:20210823
DTSTAMP:20210819T195500Z
URL:https://staythetrail.org/events/clohesy-lake-project/
SUMMARY:Clohesy Lake Project
DESCRIPTION:STT will be partnering with CORE to install a section of buck&a
 mp\;rail fence\, install new signage. 
CATEGORIES:STT Project
END:VEVENT
BEGIN:VTIMEZONE
TZID:America/Denver
X-LIC-LOCATION:America/Denver
BEGIN:DAYLIGHT
DTSTART:20210314T030000
TZOFFSETFROM:-0700
TZOFFSETTO:-0600
TZNAME:MDT
END:DAYLIGHT
END:VTIMEZONE
END:VCALENDAR