BEGIN:VCALENDAR
VERSION:2.0
PRODID:-//wp-events-plugin.com//7.2.3.1//EN
TZID:America/Denver
X-WR-TIMEZONE:America/Denver
BEGIN:VEVENT
UID:128@staythetrail.org
DTSTART;TZID=America/Denver:20211204T100000
DTEND;TZID=America/Denver:20211204T130000
DTSTAMP:20211201T154026Z
URL:https://staythetrail.org/events/christmas-caravan-for-kids/
SUMMARY:Christmas Caravan For Kids
DESCRIPTION:On the first Saturday in December\, Christmas Caravan for Kids 
 with the help of Marine Air Control Squadron-23 (MACS 23)\, sponsors a toy
  drive to support the USMC's Toys for Tots foundation. \nhttps://www.chri
 stmascaravanforkids.org/\n\nLincoln College of Technology\n11194 E 45th Av
 e\nDenver\, CO 80239\n\n 
CATEGORIES:STT 4x4 Event
END:VEVENT
BEGIN:VTIMEZONE
TZID:America/Denver
X-LIC-LOCATION:America/Denver
BEGIN:STANDARD
DTSTART:20211107T010000
TZOFFSETFROM:-0600
TZOFFSETTO:-0700
TZNAME:MST
END:STANDARD
END:VTIMEZONE
END:VCALENDAR