BEGIN:VCALENDAR
VERSION:2.0
PRODID:-//wp-events-plugin.com//7.2.3.1//EN
TZID:America/Denver
X-WR-TIMEZONE:America/Denver
BEGIN:VEVENT
UID:93@staythetrail.org
DTSTART;TZID=America/Denver;VALUE=DATE:20210615
DTEND;TZID=America/Denver;VALUE=DATE:20210616
DTSTAMP:20210609T151735Z
URL:https://staythetrail.org/events/china-wall-seasonal-gate-opening/
SUMMARY:China Wall Seasonal Gate Opening
DESCRIPTION:Stay The Trail will be participating with the seasonal gate ope
 ning on the China Wall Trail system in the South Park RD with the USFS and
  the Colorado Four Wheeler Club who are the trail adoptees
ATTACH;FMTTYPE=image/jpeg:https://staythetrail.org/wp-content/uploads/2021
 /06/IMG_4780-scaled.jpg
CATEGORIES:STT OHV Event
END:VEVENT
BEGIN:VTIMEZONE
TZID:America/Denver
X-LIC-LOCATION:America/Denver
BEGIN:DAYLIGHT
DTSTART:20210314T030000
TZOFFSETFROM:-0700
TZOFFSETTO:-0600
TZNAME:MDT
END:DAYLIGHT
END:VTIMEZONE
END:VCALENDAR