BEGIN:VCALENDAR
VERSION:2.0
PRODID:-//wp-events-plugin.com//7.2.3.1//EN
TZID:America/Denver
X-WR-TIMEZONE:America/Denver
BEGIN:VEVENT
UID:167@staythetrail.org
DTSTART;TZID=America/Denver;VALUE=DATE:20220708
DTEND;TZID=America/Denver;VALUE=DATE:20220709
DTSTAMP:20220707T235538Z
URL:https://staythetrail.org/events/china-wall-project/
SUMMARY:China Wall Project
DESCRIPTION:STT will be partnering with the CO Four Wheels to continue impr
 ovements on the China Wall trail system. 
CATEGORIES:STT Project
END:VEVENT
BEGIN:VTIMEZONE
TZID:America/Denver
X-LIC-LOCATION:America/Denver
BEGIN:DAYLIGHT
DTSTART:20220313T030000
TZOFFSETFROM:-0700
TZOFFSETTO:-0600
TZNAME:MDT
END:DAYLIGHT
END:VTIMEZONE
END:VCALENDAR