BEGIN:VCALENDAR
VERSION:2.0
PRODID:-//wp-events-plugin.com//7.2.3.1//EN
TZID:America/Denver
X-WR-TIMEZONE:America/Denver
BEGIN:VEVENT
UID:94@staythetrail.org
DTSTART;TZID=America/Denver;VALUE=DATE:20210619
DTEND;TZID=America/Denver;VALUE=DATE:20210620
DTSTAMP:20210609T152321Z
URL:https://staythetrail.org/events/china-wall-1st-weekend-opening-outreac
 h/
SUMMARY:China Wall 1st Weekend Opening Outreach
DESCRIPTION:STT will be providing OHV education and information in partners
 hip with the Colorado Four Wheelers Club and the USFS. This will be the fi
 rst weekend the trails system is officially open for the season. The club 
 has been busy doing early season maintenance and improvements to ensure th
 e trail is open and ready including re-opening a previously closed section
 !\n&nbsp\;\nhttps://trails.colorado.gov/places/na~1451962
ATTACH;FMTTYPE=image/jpeg:https://staythetrail.org/wp-content/uploads/2021
 /06/IMG_4784-2-scaled.jpg
CATEGORIES:STT Trail Head Event
END:VEVENT
BEGIN:VTIMEZONE
TZID:America/Denver
X-LIC-LOCATION:America/Denver
BEGIN:DAYLIGHT
DTSTART:20210314T030000
TZOFFSETFROM:-0700
TZOFFSETTO:-0600
TZNAME:MDT
END:DAYLIGHT
END:VTIMEZONE
END:VCALENDAR