BEGIN:VCALENDAR
VERSION:2.0
PRODID:-//wp-events-plugin.com//7.2.3.1//EN
TZID:America/Denver
X-WR-TIMEZONE:America/Denver
BEGIN:VEVENT
UID:305@staythetrail.org
DTSTART;TZID=America/Denver:20260425T100000
DTEND;TZID=America/Denver:20260425T130000
DTSTAMP:20260420T142650Z
URL:https://staythetrail.org/events/cabin-fever-spring-kick-off-and-ohv-4x
 4-tag-sale/
SUMMARY:Cabin Fever Spring Kick-Off and OHV/4x4 Tag Sale
DESCRIPTION:Join STT to kick off the season with trail info\, maps\, moto\,
  SxS 4x4 vendors\, give aways\, and you can get your OHV permit on site at
  the CPW Booth. \nEvent Details:\n\n	Date: Saturday\, April 25\, 2026\n	T
 ime: 10:00 AM – 2:00 PM (Vendor setup: 9:00 AM – 9:30 AM)\n	Location: 
 Toytec Lifts\, 6765 Franklin St\, Denver\, CO 80229\n\n&nbsp\;
CATEGORIES:Multi-use Event
END:VEVENT
BEGIN:VTIMEZONE
TZID:America/Denver
X-LIC-LOCATION:America/Denver
BEGIN:DAYLIGHT
DTSTART:20260308T030000
TZOFFSETFROM:-0700
TZOFFSETTO:-0600
TZNAME:MDT
END:DAYLIGHT
END:VTIMEZONE
END:VCALENDAR