BEGIN:VCALENDAR
VERSION:2.0
PRODID:-//wp-events-plugin.com//7.2.3.1//EN
TZID:America/Denver
X-WR-TIMEZONE:America/Denver
BEGIN:VEVENT
UID:117@staythetrail.org
DTSTART;TZID=America/Denver;VALUE=DATE:20210908
DTEND;TZID=America/Denver;VALUE=DATE:20210912
DTSTAMP:20210901T173027Z
URL:https://staythetrail.org/events/bronco-super-celebration-west/
SUMMARY:Bronco Super Celebration West
DESCRIPTION:STT will be discussing OHV trail use\, providing free trail map
 s and OHV &amp\; 4x4 info. \nLocation: Buena Vista \nEvent information:
  https://www.broncodriver.com/index.php/events/bronco-super-celebration-w
 est/
CATEGORIES:STT 4x4 Event
END:VEVENT
BEGIN:VTIMEZONE
TZID:America/Denver
X-LIC-LOCATION:America/Denver
BEGIN:DAYLIGHT
DTSTART:20210314T030000
TZOFFSETFROM:-0700
TZOFFSETTO:-0600
TZNAME:MDT
END:DAYLIGHT
END:VTIMEZONE
END:VCALENDAR