BEGIN:VCALENDAR
VERSION:2.0
PRODID:-//wp-events-plugin.com//7.2.3.1//EN
TZID:America/Denver
X-WR-TIMEZONE:America/Denver
BEGIN:VEVENT
UID:182@staythetrail.org
DTSTART;TZID=America/Denver;VALUE=DATE:20220907
DTEND;TZID=America/Denver;VALUE=DATE:20220911
DTSTAMP:20220829T182737Z
URL:https://staythetrail.org/events/bronco-super-celebration-buena-vista/
SUMMARY:Bronco Super Celebration Buena Vista
DESCRIPTION:Event Information: https://www.facebook.com/events/48103792402
 3805/?acontext=%7B%22event_action_history%22%3A[%7B%22mechanism%22%3A%22se
 arch_results%22%2C%22surface%22%3A%22search%22%7D]%2C%22ref_notif_type%22%
 3Anull%7D
ATTACH;FMTTYPE=image/jpeg:https://staythetrail.org/wp-content/uploads/2022
 /07/241733128_10164960043501337_216623044795427167_n.jpg
CATEGORIES:STT 4x4 Event
END:VEVENT
BEGIN:VTIMEZONE
TZID:America/Denver
X-LIC-LOCATION:America/Denver
BEGIN:DAYLIGHT
DTSTART:20220313T030000
TZOFFSETFROM:-0700
TZOFFSETTO:-0600
TZNAME:MDT
END:DAYLIGHT
END:VTIMEZONE
END:VCALENDAR