BEGIN:VCALENDAR
VERSION:2.0
PRODID:-//wp-events-plugin.com//7.2.3.1//EN
TZID:America/Denver
X-WR-TIMEZONE:America/Denver
BEGIN:VEVENT
UID:178@staythetrail.org
DTSTART;TZID=America/Denver:20220910T090000
DTEND;TZID=America/Denver:20220910T140000
DTSTAMP:20220829T181230Z
URL:https://staythetrail.org/events/be-heard-off-road-show-2/
SUMMARY:Be Heard! Off Road Show
DESCRIPTION:The 6th annual Be Heard! Offroad Show will be at a new location
  this year in beautiful Evergreen\, CO! 30960 Stagecoach Blvd.\nAll procee
 ds go to Warrior Now\, an organization assisting veterans with mental heal
 th\, including suicide prevention and awareness. All full size 4x4 makes a
 nd models welcome- pre register (3 raffle tickets included): https://form
 s.gle/xqYxK5RhJADmye4T9
CATEGORIES:STT 4x4 Event
END:VEVENT
BEGIN:VTIMEZONE
TZID:America/Denver
X-LIC-LOCATION:America/Denver
BEGIN:DAYLIGHT
DTSTART:20220313T030000
TZOFFSETFROM:-0700
TZOFFSETTO:-0600
TZNAME:MDT
END:DAYLIGHT
END:VTIMEZONE
END:VCALENDAR