BEGIN:VCALENDAR
VERSION:2.0
PRODID:-//wp-events-plugin.com//7.2.3.1//EN
TZID:America/Denver
X-WR-TIMEZONE:America/Denver
BEGIN:VEVENT
UID:125@staythetrail.org
DTSTART;TZID=America/Denver;VALUE=DATE:20211009
DTEND;TZID=America/Denver;VALUE=DATE:20211010
DTSTAMP:20211005T173633Z
URL:https://staythetrail.org/events/basalt-to-gypsum-trail-outreach/
SUMMARY:Basalt To Gypsum Trail Outreach
DESCRIPTION:STT will be partnering with the Eagle Holy Cross OHV Crew to pr
 ovide OHV information\, state and area maps\, and related information. \n
 Area map and info: https://trails.colorado.gov/search?q=basalt#activity=m
 otorcycle
CATEGORIES:STT Trail Head Event
END:VEVENT
BEGIN:VTIMEZONE
TZID:America/Denver
X-LIC-LOCATION:America/Denver
BEGIN:DAYLIGHT
DTSTART:20210314T030000
TZOFFSETFROM:-0700
TZOFFSETTO:-0600
TZNAME:MDT
END:DAYLIGHT
END:VTIMEZONE
END:VCALENDAR