BEGIN:VCALENDAR
VERSION:2.0
PRODID:-//wp-events-plugin.com//7.2.3.1//EN
TZID:America/Denver
X-WR-TIMEZONE:America/Denver
BEGIN:VEVENT
UID:43@staythetrail.org
DTSTART;TZID=America/Denver;VALUE=DATE:20200613
DTEND;TZID=America/Denver;VALUE=DATE:20200615
DTSTAMP:20200609T164804Z
URL:https://staythetrail.org/events/badger-flats-china-wall/
SUMMARY:Badger Flats / China Wall
DESCRIPTION:STT will be providing safe distanced outreach passing out maps 
 and other information. Look for the STT Truck! \nNote: China Wall has a s
 easonal closure the opening date is 6/15/2020. \nMore info and direction 
 available through COTREX here: https://trails.colorado.gov/roads/china-wal
 l-8814
ATTACH;FMTTYPE=image/jpeg:https://staythetrail.org/wp-content/uploads/2020
 /06/China-Wall.jpg
CATEGORIES:STT OHV Event,STT Trail Head Event
END:VEVENT
BEGIN:VTIMEZONE
TZID:America/Denver
X-LIC-LOCATION:America/Denver
BEGIN:DAYLIGHT
DTSTART:20200308T030000
TZOFFSETFROM:-0700
TZOFFSETTO:-0600
TZNAME:MDT
END:DAYLIGHT
END:VTIMEZONE
END:VCALENDAR