BEGIN:VCALENDAR
VERSION:2.0
PRODID:-//wp-events-plugin.com//7.2.3.1//EN
TZID:America/Denver
X-WR-TIMEZONE:America/Denver
BEGIN:VEVENT
UID:83@staythetrail.org
DTSTART;TZID=America/Denver;VALUE=DATE:20210508
DTEND;TZID=America/Denver;VALUE=DATE:20210509
DTSTAMP:20210506T205655Z
URL:https://staythetrail.org/events/aspen-ridge-outreach/
SUMMARY:Aspen Ridge Outreach
DESCRIPTION:Trail Information: https://trails.colorado.gov/places/na~14545
 44
CATEGORIES:STT OHV Event,STT Trail Head Event
END:VEVENT
BEGIN:VTIMEZONE
TZID:America/Denver
X-LIC-LOCATION:America/Denver
BEGIN:DAYLIGHT
DTSTART:20210314T030000
TZOFFSETFROM:-0700
TZOFFSETTO:-0600
TZNAME:MDT
END:DAYLIGHT
END:VTIMEZONE
END:VCALENDAR