BEGIN:VCALENDAR
VERSION:2.0
PRODID:-//wp-events-plugin.com//7.2.3.1//EN
TZID:America/Denver
X-WR-TIMEZONE:America/Denver
BEGIN:VEVENT
UID:96@staythetrail.org
DTSTART;TZID=America/Denver;VALUE=DATE:20210626
DTEND;TZID=America/Denver;VALUE=DATE:20210627
DTSTAMP:20210609T153218Z
URL:https://staythetrail.org/events/argentine-pass-trail-project/
SUMMARY:Argentine Pass Trail Project
DESCRIPTION:STT will be helping out the Rising Sun Toyota Club on their ado
 pted trail Argentine Pass. We will be doing trash clean up\, debris cleari
 ng and general trail maintenance. \nhttps://trails.colorado.gov/places/na
 ~1451086
CATEGORIES:STT Project
END:VEVENT
BEGIN:VTIMEZONE
TZID:America/Denver
X-LIC-LOCATION:America/Denver
BEGIN:DAYLIGHT
DTSTART:20210314T030000
TZOFFSETFROM:-0700
TZOFFSETTO:-0600
TZNAME:MDT
END:DAYLIGHT
END:VTIMEZONE
END:VCALENDAR