BEGIN:VCALENDAR
VERSION:2.0
PRODID:-//wp-events-plugin.com//7.2.3.1//EN
TZID:America/Denver
X-WR-TIMEZONE:America/Denver
BEGIN:VEVENT
UID:116@staythetrail.org
DTSTART;TZID=America/Denver;VALUE=DATE:20210904
DTEND;TZID=America/Denver;VALUE=DATE:20210905
DTSTAMP:20210901T172736Z
URL:https://staythetrail.org/events/5th-annual-be-heard-offroad-show/
SUMMARY:5th Annual Be Heard! Offroad Show
DESCRIPTION:The CO 4x4 Girls are hosting the 5th Annual Be Heard! Offroad S
 how's purpose is to raise funds for Suicide Awareness and Prevention. This
  year we chose Robbie's Hope as the non profit that proceeds will be donat
 ed to. Please check them out at robbies-hope.com\nRTI Ramp. Raffle. Music.
  Prizes. Car Show. Family Fun. Entertainment. Food.\nPlease register your 
 4x4 vehicle for the show at https://forms.gle/tfrdzyDgNCUy5Kie8.\n \nLoo
 k for Stay The Trail information at the On Trail Training Booth\n \nEvent
  Info: 
CATEGORIES:STT 4x4 Event
END:VEVENT
BEGIN:VTIMEZONE
TZID:America/Denver
X-LIC-LOCATION:America/Denver
BEGIN:DAYLIGHT
DTSTART:20210314T030000
TZOFFSETFROM:-0700
TZOFFSETTO:-0600
TZNAME:MDT
END:DAYLIGHT
END:VTIMEZONE
END:VCALENDAR