BEGIN:VCALENDAR
VERSION:2.0
PRODID:-//wp-events-plugin.com//7.2.3.1//EN
TZID:America/Denver
X-WR-TIMEZONE:America/Denver
BEGIN:VEVENT
UID:311@staythetrail.org
DTSTART;TZID=America/Denver;VALUE=DATE:20260517
DTEND;TZID=America/Denver;VALUE=DATE:20260518
DTSTAMP:20260420T151229Z
URL:https://staythetrail.org/events/3rd-annual-take-a-kid-dirt-biking-day/
SUMMARY:3rd Annual Take A Kid Dirt Biking Day
DESCRIPTION:RMSR and Dry Lake MX Park is hosting our 3rd Annual Take A Kid
  Dirt Biking Day at the park on Sunday\, May 17\, \n\nDry Lake MX park\
 , 3730 Trail Gulch Rd\, Gypsum\, CO 81637\, USA\n\n\n \n\nGames * prizes 
 * demo bikes * goodie bags * refreshments * and more! Whether your kid is 
 a seasoned rider\, or wanting to try a dirt bike for the first time\, this
  event is sure to be fun for the whole family!\n\n\nEvent Calendar/Info h
 ttps://rmsrco.com/calendar/
CATEGORIES:STT OHV Event
END:VEVENT
BEGIN:VTIMEZONE
TZID:America/Denver
X-LIC-LOCATION:America/Denver
BEGIN:DAYLIGHT
DTSTART:20260308T030000
TZOFFSETFROM:-0700
TZOFFSETTO:-0600
TZNAME:MDT
END:DAYLIGHT
END:VTIMEZONE
END:VCALENDAR