BEGIN:VCALENDAR
VERSION:2.0
PRODID:-//wp-events-plugin.com//7.2.3.1//EN
TZID:America/Denver
X-WR-TIMEZONE:America/Denver
BEGIN:VEVENT
UID:158@staythetrail.org
DTSTART;TZID=America/Denver;VALUE=DATE:20220630
DTEND;TZID=America/Denver;VALUE=DATE:20220701
DTSTAMP:20220602T154512Z
URL:https://staythetrail.org/events/3200/
SUMMARY:Hagerman Pass/Leadville RD gate openings
DESCRIPTION:STT will be partnering with the Leadville USFS Crew to open the
  last of the seasonal gates for the year. Area information: https://trail
 s.colorado.gov/roads/hagerman-pass-8106#activity=ohv_gt_50
CATEGORIES:STT Project
END:VEVENT
BEGIN:VTIMEZONE
TZID:America/Denver
X-LIC-LOCATION:America/Denver
BEGIN:DAYLIGHT
DTSTART:20220313T030000
TZOFFSETFROM:-0700
TZOFFSETTO:-0600
TZNAME:MDT
END:DAYLIGHT
END:VTIMEZONE
END:VCALENDAR