BEGIN:VCALENDAR
VERSION:2.0
PRODID:-//wp-events-plugin.com//7.2.3.1//EN
TZID:America/Denver
X-WR-TIMEZONE:America/Denver
BEGIN:VEVENT
UID:308@staythetrail.org
DTSTART;TZID=America/Denver;VALUE=DATE:20260515
DTEND;TZID=America/Denver;VALUE=DATE:20260517
DTSTAMP:20260420T143935Z
URL:https://staythetrail.org/events/2026-great-trails-training-penrose-col
 orado-may-15-16-2026/
SUMMARY:2026 Great Trails Training - Penrose\, Colorado - May 15-16\, 2026
DESCRIPTION:Workshop registration/infomation: https://www.nohvcc.org/2026C
 oloradoGreatTrailsWorkshopPenrose/
CATEGORIES:Workshop
END:VEVENT
BEGIN:VTIMEZONE
TZID:America/Denver
X-LIC-LOCATION:America/Denver
BEGIN:DAYLIGHT
DTSTART:20260308T030000
TZOFFSETFROM:-0700
TZOFFSETTO:-0600
TZNAME:MDT
END:DAYLIGHT
END:VTIMEZONE
END:VCALENDAR