BEGIN:VCALENDAR
VERSION:2.0
PRODID:-//wp-events-plugin.com//7.2.3.1//EN
TZID:America/Denver
X-WR-TIMEZONE:America/Denver
BEGIN:VEVENT
UID:171@staythetrail.org
DTSTART;TZID=America/Denver;VALUE=DATE:20220806
DTEND;TZID=America/Denver;VALUE=DATE:20220807
DTSTAMP:20220804T154601Z
URL:https://staythetrail.org/events/2022-shady-burro-enduro/
SUMMARY:2022 Shady Burro Enduro
DESCRIPTION:Stay The Trail will be out at the Shady Burro Enduro on Saturda
 y helping with tech inspection and talking about keeping trails open. \n&
 nbsp\;\nEvent Details: https://www.facebook.com/events/4701971619864004?a
 context=%7B%22event_action_history%22%3A[%7B%22surface%22%3A%22page%22%7D]
 %7D
CATEGORIES:STT OHV Event
END:VEVENT
BEGIN:VTIMEZONE
TZID:America/Denver
X-LIC-LOCATION:America/Denver
BEGIN:DAYLIGHT
DTSTART:20220313T030000
TZOFFSETFROM:-0700
TZOFFSETTO:-0600
TZNAME:MDT
END:DAYLIGHT
END:VTIMEZONE
END:VCALENDAR