BEGIN:VCALENDAR
VERSION:2.0
PRODID:-//wp-events-plugin.com//7.2.3.1//EN
TZID:America/Denver
X-WR-TIMEZONE:America/Denver
BEGIN:VEVENT
UID:170@staythetrail.org
DTSTART;TZID=America/Denver:20220731T000000
DTEND;TZID=America/Denver:20220801T000000
DTSTAMP:20220720T164813Z
URL:https://staythetrail.org/events/2022-colorado-off-highway-vehicle-coal
 ition-cohvco-ohv-training-workshop/
SUMMARY:2022 Colorado Off-Highway Vehicle Coalition (COHVCO): OHV Training 
 Workshop
DESCRIPTION:Thanks to funding from the Colorado Parks and Wildlife OHV Gran
 t program\, COHVCO will be holding multiple workshops to educate and benef
 it the State’s off-highway vehicle (OHV) enthusiasts\, land managers\, a
 nd other OHV stakeholders. These trainings will be focused on the vision a
 nd goals for OHV recreation in the future.
CATEGORIES:Workshop
END:VEVENT
BEGIN:VTIMEZONE
TZID:America/Denver
X-LIC-LOCATION:America/Denver
BEGIN:DAYLIGHT
DTSTART:20220313T030000
TZOFFSETFROM:-0700
TZOFFSETTO:-0600
TZNAME:MDT
END:DAYLIGHT
END:VTIMEZONE
END:VCALENDAR