BEGIN:VCALENDAR
VERSION:2.0
PRODID:-//wp-events-plugin.com//7.2.3.1//EN
TZID:America/Denver
X-WR-TIMEZONE:America/Denver
BEGIN:VEVENT
UID:180@staythetrail.org
DTSTART;TZID=America/Denver;VALUE=DATE:20220923
DTEND;TZID=America/Denver;VALUE=DATE:20220926
DTSTAMP:20220829T182023Z
URL:https://staythetrail.org/events/14er-fest-3/
SUMMARY:14er Fest
DESCRIPTION:14er Fest is an adventurous mountain festival that unifies all 
 trail-based recreation groups. 14er Fest promotes trail stewardship\, educ
 ation and interaction between trail users. The event provides a safe and f
 un opportunity for locals and visitors to experience Buena Vista in the fa
 ll.\nEvent FB Page: https://www.facebook.com/14erFest
ATTACH;FMTTYPE=image/jpeg:https://staythetrail.org/wp-content/uploads/2019
 /09/14er-fest.jpg
CATEGORIES:Multi-use Event
END:VEVENT
BEGIN:VTIMEZONE
TZID:America/Denver
X-LIC-LOCATION:America/Denver
BEGIN:DAYLIGHT
DTSTART:20220313T030000
TZOFFSETFROM:-0700
TZOFFSETTO:-0600
TZNAME:MDT
END:DAYLIGHT
END:VTIMEZONE
END:VCALENDAR