BEGIN:VCALENDAR
VERSION:2.0
PRODID:-//wp-events-plugin.com//7.2.3.1//EN
TZID:America/Denver
X-WR-TIMEZONE:America/Denver
BEGIN:VEVENT
UID:122@staythetrail.org
DTSTART;TZID=America/Denver;VALUE=DATE:20210924
DTEND;TZID=America/Denver;VALUE=DATE:20210927
DTSTAMP:20210901T174534Z
URL:https://staythetrail.org/events/14er-fest-2/
SUMMARY:14er Fest
DESCRIPTION:\n14er Fest encompasses a range trail activities including Off-
 Roading\, Mountain Biking\, Hiking\, Fly Fishing and Trail Running events.
  A host of clinics will also be available so you can learn new skills or g
 ain training tips from the experts.\n\n\nIn the evening\, you’ll enjoy l
 ive music and libations from some of our favorite Colorado breweries and d
 istilleries.\n\n\nThis event is free\, but fees will be required for the r
 unning races and in-town camping sites. \n\n \nLocation: Buena Vista \n
  \nSTT will have an educational trailer set-up along with the Youth RC Ch
 allange Course. 
CATEGORIES:STT OHV Event
END:VEVENT
BEGIN:VTIMEZONE
TZID:America/Denver
X-LIC-LOCATION:America/Denver
BEGIN:DAYLIGHT
DTSTART:20210314T030000
TZOFFSETFROM:-0700
TZOFFSETTO:-0600
TZNAME:MDT
END:DAYLIGHT
END:VTIMEZONE
END:VCALENDAR